BEGIN:VCALENDAR
VERSION:2.0
PRODID:iheid
X-WR-TIMEZONE:Europe/Zurich
BEGIN:VTIMEZONE
TZID:Europe/Zurich
X-LIC-LOCATION:Europe/Zurich
END:VTIMEZONE
BEGIN:VEVENT
UID:69e7bef06f809
DTSTART:20181016T140000Z
SEQUENCE:0
TRANSP:OPAQUE
DTEND:20181016T150000Z
LOCATION:Online
SUMMARY:A New World Patent Order
CLASS:PUBLIC
DESCRIPTION:A New World Patent Order by Achal Prabhala.\n\n\n\nEvent connec
 tion: 
DTSTAMP:20260421T201616Z
END:VEVENT
END:VCALENDAR