BEGIN:VCALENDAR
VERSION:2.0
PRODID:iheid
X-WR-TIMEZONE:Europe/Zurich
BEGIN:VTIMEZONE
TZID:Europe/Zurich
X-LIC-LOCATION:Europe/Zurich
END:VTIMEZONE
BEGIN:VEVENT
UID:69e7a6259cd92
DTSTART:20170628T110000Z
SEQUENCE:0
TRANSP:OPAQUE
DTEND:20170628T120000Z
LOCATION:Auditorium 2 | Maison de la Paix
SUMMARY:A Conversation with Nicholas Bagley: The end of Obamacare?
CLASS:PUBLIC
DESCRIPTION:A Conversation with Nicholas Bagley: The end of Obamacare? by .
 \n\n\n\nEvent connection: 
DTSTAMP:20260421T183029Z
END:VEVENT
END:VCALENDAR