BEGIN:VCALENDAR
VERSION:2.0
PRODID:iheid
X-WR-TIMEZONE:Europe/Zurich
BEGIN:VTIMEZONE
TZID:Europe/Zurich
X-LIC-LOCATION:Europe/Zurich
END:VTIMEZONE
BEGIN:VEVENT
UID:69e7a5776d20e
DTSTART:20170627T090000Z
SEQUENCE:0
TRANSP:OPAQUE
DTEND:20170627T101500Z
LOCATION:Auditorium Ivan Pictet | Maison de la Paix
SUMMARY:10 Years of Leadership on Global Health  
CLASS:PUBLIC
DESCRIPTION:10 Years of Leadership on Global Health   by .\n\n\n\nEvent con
 nection: 
DTSTAMP:20260421T182735Z
END:VEVENT
END:VCALENDAR