BEGIN:VCALENDAR
VERSION:2.0
PRODID:iheid
X-WR-TIMEZONE:Europe/Zurich
BEGIN:VTIMEZONE
TZID:Europe/Zurich
X-LIC-LOCATION:Europe/Zurich
END:VTIMEZONE
BEGIN:VEVENT
UID:69e77287072ca
DTSTART:20151117T140000Z
SEQUENCE:0
TRANSP:OPAQUE
DTEND:20151117T150000Z
LOCATION:The Graduate Institute\, Maison de la Paix | Geneva
SUMMARY:A Conversation with ... Marc Sprenger\, Director\, AMR Secretariat\
 , WHO
CLASS:PUBLIC
DESCRIPTION:A Conversation with ... Marc Sprenger\, Director\, AMR Secretar
 iat\, WHO by .\n\n\n\nEvent connection: 
DTSTAMP:20260421T145015Z
END:VEVENT
END:VCALENDAR