BEGIN:VCALENDAR
VERSION:2.0
PRODID:iheid
X-WR-TIMEZONE:Europe/Zurich
BEGIN:VTIMEZONE
TZID:Europe/Zurich
X-LIC-LOCATION:Europe/Zurich
END:VTIMEZONE
BEGIN:VEVENT
UID:69e7f9b577214
DTSTART:20170525T104500Z
SEQUENCE:0
TRANSP:OPAQUE
DTEND:20170525T121500Z
LOCATION:Auditorium A1 | Maison de le Paix
SUMMARY:Global Health R&D: How can we best set priorities based on evidence
 ?
CLASS:PUBLIC
DESCRIPTION:Global Health R&amp\;D: How can we best set priorities based on
  evidence? by .\n\n\n\nEvent connection: 
DTSTAMP:20260422T002701Z
END:VEVENT
END:VCALENDAR