BEGIN:VCALENDAR
VERSION:2.0
PRODID:iheid
X-WR-TIMEZONE:Europe/Zurich
BEGIN:VTIMEZONE
TZID:Europe/Zurich
X-LIC-LOCATION:Europe/Zurich
END:VTIMEZONE
BEGIN:VEVENT
UID:69e7f6da7fba2
DTSTART:20170524T160000Z
SEQUENCE:0
TRANSP:OPAQUE
DTEND:20170524T180000Z
LOCATION:Auditorium | Maison de la Paix
SUMMARY:Health in All Policies: Launch of the Global Network
CLASS:PUBLIC
DESCRIPTION:Health in All Policies: Launch of the Global Network by .\n\n\n
 \nEvent connection: 
DTSTAMP:20260422T001450Z
END:VEVENT
END:VCALENDAR