BEGIN:VCALENDAR
VERSION:2.0
PRODID:iheid
X-WR-TIMEZONE:Europe/Zurich
BEGIN:VTIMEZONE
TZID:Europe/Zurich
X-LIC-LOCATION:Europe/Zurich
END:VTIMEZONE
BEGIN:VEVENT
UID:69e80fc9646cd
DTSTART:20170523T113000Z
SEQUENCE:0
TRANSP:OPAQUE
DTEND:20170523T130000Z
LOCATION:Auditorium | Maison de la Paix
SUMMARY:Innovative Financing\, Transforming Governance
CLASS:PUBLIC
DESCRIPTION:Innovative Financing\, Transforming Governance by .\n\n\n\nEven
 t connection: 
DTSTAMP:20260422T020113Z
END:VEVENT
END:VCALENDAR