BEGIN:VCALENDAR
VERSION:2.0
PRODID:iheid
X-WR-TIMEZONE:Europe/Zurich
BEGIN:VTIMEZONE
TZID:Europe/Zurich
X-LIC-LOCATION:Europe/Zurich
END:VTIMEZONE
BEGIN:VEVENT
UID:69e781b55f6a3
DTSTART:20170411T103000Z
SEQUENCE:0
TRANSP:OPAQUE
DTEND:20170411T113000Z
LOCATION:Auditorium A1B | Maison de la Paix
SUMMARY:Why is the G20 Getting Interested in Health?
CLASS:PUBLIC
DESCRIPTION:Why is the G20 Getting Interested in Health? by .\n\n\n\nEvent 
 connection: 
DTSTAMP:20260421T155501Z
END:VEVENT
END:VCALENDAR