BEGIN:VCALENDAR
VERSION:2.0
PRODID:iheid
X-WR-TIMEZONE:Europe/Zurich
BEGIN:VTIMEZONE
TZID:Europe/Zurich
X-LIC-LOCATION:Europe/Zurich
END:VTIMEZONE
BEGIN:VEVENT
UID:69e89b21dc6ad
DTSTART:20170330T130000Z
SEQUENCE:0
TRANSP:OPAQUE
DTEND:20170330T140000Z
LOCATION:Auditorium 2 | Maison de la Paix
SUMMARY:A Conversation with Nellie Bristol
CLASS:PUBLIC
DESCRIPTION:A Conversation with Nellie Bristol by .\n\n\n\nEvent connection
 : 
DTSTAMP:20260422T115545Z
END:VEVENT
END:VCALENDAR