BEGIN:VCALENDAR
VERSION:2.0
PRODID:iheid
X-WR-TIMEZONE:Europe/Zurich
BEGIN:VTIMEZONE
TZID:Europe/Zurich
X-LIC-LOCATION:Europe/Zurich
END:VTIMEZONE
BEGIN:VEVENT
UID:69e833c16ce8b
DTSTART:20160701T103000Z
SEQUENCE:0
TRANSP:OPAQUE
DTEND:20160701T123000Z
LOCATION:Maison de la paix\, the Graduate Institute | Geneva
SUMMARY:Influence of private financing on global health initiatives
CLASS:PUBLIC
DESCRIPTION:Influence of private financing on global health initiatives by 
 .\n\n\n\nEvent connection: 
DTSTAMP:20260422T043441Z
END:VEVENT
END:VCALENDAR