BEGIN:VCALENDAR
VERSION:2.0
PRODID:iheid
X-WR-TIMEZONE:Europe/Zurich
BEGIN:VTIMEZONE
TZID:Europe/Zurich
X-LIC-LOCATION:Europe/Zurich
END:VTIMEZONE
BEGIN:VEVENT
UID:69eca18e53e05
DTSTART:20160412T070000Z
SEQUENCE:0
TRANSP:OPAQUE
DTEND:20160412T083000Z
LOCATION:Cholmondeley Room and Terrace | House of Lords | London\, UK
SUMMARY:Polio eradication: Securing the legacy of the global vaccination in
 itiative
CLASS:PUBLIC
DESCRIPTION:Polio eradication: Securing the legacy of the global vaccinatio
 n initiative by .\n\n\n\nEvent connection: 
DTSTAMP:20260425T131214Z
END:VEVENT
END:VCALENDAR