BEGIN:VCALENDAR
VERSION:2.0
PRODID:iheid
X-WR-TIMEZONE:Europe/Zurich
BEGIN:VTIMEZONE
TZID:Europe/Zurich
X-LIC-LOCATION:Europe/Zurich
END:VTIMEZONE
BEGIN:VEVENT
UID:69e956afe0dc4
DTSTART:20160311T110000Z
SEQUENCE:0
TRANSP:OPAQUE
DTEND:20160311T130000Z
LOCATION:Maison de la Paix
SUMMARY:Polio Eradication and the Implications for Health Governance
CLASS:PUBLIC
DESCRIPTION:Polio Eradication and the Implications for Health Governance by
  .\n\n\n\nEvent connection: 
DTSTAMP:20260423T011559Z
END:VEVENT
END:VCALENDAR