BEGIN:VCALENDAR
VERSION:2.0
PRODID:iheid
X-WR-TIMEZONE:Europe/Zurich
BEGIN:VTIMEZONE
TZID:Europe/Zurich
X-LIC-LOCATION:Europe/Zurich
END:VTIMEZONE
BEGIN:VEVENT
UID:69ed0ec54d90f
DTSTART:20150205T150000Z
SEQUENCE:0
TRANSP:OPAQUE
DTEND:20150205T173000Z
LOCATION:Maison de la Paix
SUMMARY:Ebola and the Security Sector
CLASS:PUBLIC
DESCRIPTION:Ebola and the Security Sector by .\n\n\n\nEvent connection: 
DTSTAMP:20260425T205813Z
END:VEVENT
END:VCALENDAR