BEGIN:VCALENDAR
VERSION:2.0
PRODID:iheid
X-WR-TIMEZONE:Europe/Zurich
BEGIN:VTIMEZONE
TZID:Europe/Zurich
X-LIC-LOCATION:Europe/Zurich
END:VTIMEZONE
BEGIN:VEVENT
UID:69e99ca8f37c3
DTSTART:20160226T150000Z
SEQUENCE:0
TRANSP:OPAQUE
DTEND:20160226T160000Z
LOCATION:Maison de la Paix
SUMMARY:A Conversation with Mukesh Kapila
CLASS:PUBLIC
DESCRIPTION:A Conversation with Mukesh Kapila by .\n\n\n\nEvent connection:
  
DTSTAMP:20260423T061433Z
END:VEVENT
END:VCALENDAR