BEGIN:VCALENDAR
VERSION:2.0
PRODID:iheid
X-WR-TIMEZONE:Europe/Zurich
BEGIN:VTIMEZONE
TZID:Europe/Zurich
X-LIC-LOCATION:Europe/Zurich
END:VTIMEZONE
BEGIN:VEVENT
UID:69ed0ec4e5477
DTSTART:20150520T160000Z
SEQUENCE:0
TRANSP:OPAQUE
DTEND:20150520T180000Z
LOCATION:Maison de la Paix
SUMMARY:The Health Sector Meets the Security Sector
CLASS:PUBLIC
DESCRIPTION:The Health Sector Meets the Security Sector by .\n\n\n\nEvent c
 onnection: 
DTSTAMP:20260425T205812Z
END:VEVENT
END:VCALENDAR