BEGIN:VCALENDAR
VERSION:2.0
PRODID:iheid
X-WR-TIMEZONE:Europe/Zurich
BEGIN:VTIMEZONE
TZID:Europe/Zurich
X-LIC-LOCATION:Europe/Zurich
END:VTIMEZONE
BEGIN:VEVENT
UID:69e8a83faa166
DTSTART:20161014T153000Z
SEQUENCE:0
TRANSP:OPAQUE
DTEND:20161014T170000Z
LOCATION:Maison de la Paix
SUMMARY:A gender reality check in global health
CLASS:PUBLIC
DESCRIPTION:A gender reality check in global health by .\n\n\n\nEvent conne
 ction: 
DTSTAMP:20260422T125143Z
END:VEVENT
END:VCALENDAR