BEGIN:VCALENDAR
VERSION:2.0
PRODID:iheid
X-WR-TIMEZONE:Europe/Zurich
BEGIN:VTIMEZONE
TZID:Europe/Zurich
X-LIC-LOCATION:Europe/Zurich
END:VTIMEZONE
BEGIN:VEVENT
UID:69e974138bd09
DTSTART:20190605T163000Z
SEQUENCE:0
TRANSP:OPAQUE
DTEND:20190605T190000Z
LOCATION:Auditorium Ivan Pictet | Maison de la paix\, Geneva
SUMMARY:Anote's Ark
CLASS:PUBLIC
DESCRIPTION:Anote&#039\;s Ark by With UN Environment and the Geneva Environ
 ment Network.\n\n\n\nEvent connection: 
DTSTAMP:20260423T032123Z
END:VEVENT
END:VCALENDAR