BEGIN:VCALENDAR
VERSION:2.0
PRODID:iheid
X-WR-TIMEZONE:Europe/Zurich
BEGIN:VTIMEZONE
TZID:Europe/Zurich
X-LIC-LOCATION:Europe/Zurich
END:VTIMEZONE
BEGIN:VEVENT
UID:69e7a0ae75e1f
DTSTART:20190416T103000Z
SEQUENCE:0
TRANSP:OPAQUE
DTEND:20190416T113000Z
LOCATION:Auditorium A1B | Maison de la paix\, Genève
SUMMARY:The Israeli Elections: A First Analysis
CLASS:PUBLIC
DESCRIPTION:The Israeli Elections: A First Analysis by Riccardo Bocco\, Pro
 fessor of Anthropology and Sociology\, and Cyrus Schayegh\, Professor of I
 nternational History.\n\n\n\nEvent connection: 
DTSTAMP:20260421T180710Z
END:VEVENT
END:VCALENDAR