BEGIN:VCALENDAR
VERSION:2.0
PRODID:iheid
X-WR-TIMEZONE:Europe/Zurich
BEGIN:VTIMEZONE
TZID:Europe/Zurich
X-LIC-LOCATION:Europe/Zurich
END:VTIMEZONE
BEGIN:VEVENT
UID:69e7bf072e76d
DTSTART:20190425T140000Z
SEQUENCE:0
TRANSP:OPAQUE
DTEND:20190425T150000Z
LOCATION:Online
SUMMARY:Webinar: Public funding of drug development
CLASS:PUBLIC
DESCRIPTION:Webinar: Public funding of drug development by Ekaterina Cleary
 .\n\n\n\nEvent connection: 
DTSTAMP:20260421T201639Z
END:VEVENT
END:VCALENDAR