BEGIN:VCALENDAR
VERSION:2.0
PRODID:iheid
X-WR-TIMEZONE:Europe/Zurich
BEGIN:VTIMEZONE
TZID:Europe/Zurich
X-LIC-LOCATION:Europe/Zurich
END:VTIMEZONE
BEGIN:VEVENT
UID:69e9078f95791
DTSTART:20190618T161500Z
SEQUENCE:0
TRANSP:OPAQUE
DTEND:20190618T174500Z
LOCATION:Maison de la paix\, room S8
SUMMARY:Social Impact Investment: The Impact Imperative for Sustainable Dev
 elopment
CLASS:PUBLIC
DESCRIPTION:Social Impact Investment: The Impact Imperative for Sustainable
  Development by Karen Wilson\, OECD.\n\n\n\nEvent connection: 
DTSTAMP:20260422T193823Z
END:VEVENT
END:VCALENDAR