BEGIN:VCALENDAR
VERSION:2.0
PRODID:iheid
X-WR-TIMEZONE:Europe/Zurich
BEGIN:VTIMEZONE
TZID:Europe/Zurich
X-LIC-LOCATION:Europe/Zurich
END:VTIMEZONE
BEGIN:VEVENT
UID:69e7a0983ccc3
DTSTART:20190506T163000Z
SEQUENCE:0
TRANSP:OPAQUE
DTEND:20190506T180000Z
LOCATION:Auditorium Ivan Pictet\, Maison de la paix\, Geneva
SUMMARY:Generation Unlimited: Unlocking the Power of the World’s 1.8 Bill
 ion Young People
CLASS:PUBLIC
DESCRIPTION:Generation Unlimited: Unlocking the Power of the World’s 1.8 
 Billion Young People by Henrietta Fore\, Executive Director of the United 
 Nations Children&#039\;s Fund (UNICEF) .\n\n\n\nEvent connection: 
DTSTAMP:20260421T180648Z
END:VEVENT
END:VCALENDAR