BEGIN:VCALENDAR
VERSION:2.0
PRODID:iheid
X-WR-TIMEZONE:Europe/Zurich
BEGIN:VTIMEZONE
TZID:Europe/Zurich
X-LIC-LOCATION:Europe/Zurich
END:VTIMEZONE
BEGIN:VEVENT
UID:69e4cbfd8aba3
DTSTART:20191102T100000Z
SEQUENCE:0
TRANSP:OPAQUE
DTEND:20191103T010000Z
LOCATION:Geneva
SUMMARY:ALUMNI REUNION 2019
CLASS:PUBLIC
DESCRIPTION:ALUMNI REUNION 2019 by .\n\n\n\nEvent connection: 
DTSTAMP:20260419T143509Z
END:VEVENT
END:VCALENDAR