BEGIN:VCALENDAR
VERSION:2.0
PRODID:iheid
X-WR-TIMEZONE:Europe/Zurich
BEGIN:VTIMEZONE
TZID:Europe/Zurich
X-LIC-LOCATION:Europe/Zurich
END:VTIMEZONE
BEGIN:VEVENT
UID:69e7b8eec165e
DTSTART:20190614T131500Z
SEQUENCE:0
TRANSP:OPAQUE
DTEND:20190614T143000Z
LOCATION:Auditorium Ivan Pictet A\, Maison de la paix\, Geneva
SUMMARY:A Norm in the Making: Banning the Global Trade in Tools of Torture
CLASS:PUBLIC
DESCRIPTION:A Norm in the Making: Banning the Global Trade in Tools of Tort
 ure by .\n\n\n\nEvent connection: 
DTSTAMP:20260421T195038Z
END:VEVENT
END:VCALENDAR