BEGIN:VCALENDAR
VERSION:2.0
PRODID:iheid
X-WR-TIMEZONE:Europe/Zurich
BEGIN:VTIMEZONE
TZID:Europe/Zurich
X-LIC-LOCATION:Europe/Zurich
END:VTIMEZONE
BEGIN:VEVENT
UID:69e7beac8a5c3
DTSTART:20190620T140000Z
SEQUENCE:0
TRANSP:OPAQUE
DTEND:20190620T150000Z
LOCATION:No location specified
SUMMARY:Global Access to Affordable Insulin: Understanding the Barriers
CLASS:PUBLIC
DESCRIPTION:Global Access to Affordable Insulin: Understanding the Barriers
  by Marg Ewen\, Molly Lepeska.\n\nWebinar\n\nEvent connection: 
DTSTAMP:20260421T201508Z
END:VEVENT
END:VCALENDAR