BEGIN:VCALENDAR
VERSION:2.0
PRODID:iheid
X-WR-TIMEZONE:Europe/Zurich
BEGIN:VTIMEZONE
TZID:Europe/Zurich
X-LIC-LOCATION:Europe/Zurich
END:VTIMEZONE
BEGIN:VEVENT
UID:69ecae804aa7d
DTSTART:20190624T070000Z
SEQUENCE:0
TRANSP:OPAQUE
DTEND:20190628T183000Z
LOCATION:No location specified
SUMMARY:Geneva Drug Policy Week
CLASS:PUBLIC
DESCRIPTION:Geneva Drug Policy Week by .\n\n\n\nEvent connection: 
DTSTAMP:20260425T140728Z
END:VEVENT
END:VCALENDAR