BEGIN:VCALENDAR
VERSION:2.0
PRODID:iheid
X-WR-TIMEZONE:Europe/Zurich
BEGIN:VTIMEZONE
TZID:Europe/Zurich
X-LIC-LOCATION:Europe/Zurich
END:VTIMEZONE
BEGIN:VEVENT
UID:69e7d27661d76
DTSTART:20191212T080000Z
SEQUENCE:0
TRANSP:OPAQUE
DTEND:20191213T170000Z
LOCATION:Auditorium Ivan Pictet\, Maison de la paix\, Geneva
SUMMARY:1st Annual Conference of the Private Sector Development Research Ne
 twork - Private Enterprise and Inclusion
CLASS:PUBLIC
DESCRIPTION:1st Annual Conference of the Private Sector Development Researc
 h Network - Private Enterprise and Inclusion by Co-organised with the Inte
 rnational Finance Corporation\, World Bank Group.\n\n\n\nEvent connection:
  
DTSTAMP:20260421T213934Z
END:VEVENT
END:VCALENDAR