BEGIN:VCALENDAR
VERSION:2.0
PRODID:iheid
X-WR-TIMEZONE:Europe/Zurich
BEGIN:VTIMEZONE
TZID:Europe/Zurich
X-LIC-LOCATION:Europe/Zurich
END:VTIMEZONE
BEGIN:VEVENT
UID:69eb3fcb248d2
DTSTART:20100519T171500Z
SEQUENCE:0
TRANSP:OPAQUE
DTEND:20100519T181500Z
LOCATION:No location specified
SUMMARY:Khmers rouges amers
CLASS:PUBLIC
DESCRIPTION:Khmers rouges amers by .\n\n\n\nEvent connection: 
DTSTAMP:20260424T120251Z
END:VEVENT
END:VCALENDAR