BEGIN:VCALENDAR
VERSION:2.0
PRODID:iheid
X-WR-TIMEZONE:Europe/Zurich
BEGIN:VTIMEZONE
TZID:Europe/Zurich
X-LIC-LOCATION:Europe/Zurich
END:VTIMEZONE
BEGIN:VEVENT
UID:69e5a4f2ed3b5
DTSTART:20141204T120000Z
SEQUENCE:0
TRANSP:OPAQUE
DTEND:20141206T120000Z
LOCATION:No location specified
SUMMARY:Global Think Tank Summit
CLASS:PUBLIC
DESCRIPTION:Global Think Tank Summit by .\n\n\n\nEvent connection: 
DTSTAMP:20260420T060050Z
END:VEVENT
END:VCALENDAR