BEGIN:VCALENDAR
VERSION:2.0
PRODID:iheid
X-WR-TIMEZONE:Europe/Zurich
BEGIN:VTIMEZONE
TZID:Europe/Zurich
X-LIC-LOCATION:Europe/Zurich
END:VTIMEZONE
BEGIN:VEVENT
UID:69e641faaee5a
DTSTART:20190928T061500Z
SEQUENCE:0
TRANSP:OPAQUE
DTEND:20190928T150000Z
LOCATION:Maison de la Paix\, TBD
SUMMARY:Introduction to programming with Python [1/2]
CLASS:PUBLIC
DESCRIPTION:Introduction to programming with Python [1/2] by Mirko Reul.\n\
 n\n\nEvent connection: 
DTSTAMP:20260420T171050Z
END:VEVENT
END:VCALENDAR