BEGIN:VCALENDAR
VERSION:2.0
PRODID:iheid
X-WR-TIMEZONE:Europe/Zurich
BEGIN:VTIMEZONE
TZID:Europe/Zurich
X-LIC-LOCATION:Europe/Zurich
END:VTIMEZONE
BEGIN:VEVENT
UID:69e7a0992bc27
DTSTART:20190902T160000Z
SEQUENCE:0
TRANSP:OPAQUE
DTEND:20190902T170000Z
LOCATION:Auditorium Ivan Pictet\, Maison de la paix\, Geneva
SUMMARY:Digital Cooperation: Can Geneva Make It a Win-win?
CLASS:PUBLIC
DESCRIPTION:Digital Cooperation: Can Geneva Make It a Win-win? by Brad Smit
 h\, President of Microsoft.\n\n\n\nEvent connection: 
DTSTAMP:20260421T180649Z
END:VEVENT
END:VCALENDAR