BEGIN:VCALENDAR
VERSION:2.0
PRODID:iheid
X-WR-TIMEZONE:Europe/Zurich
BEGIN:VTIMEZONE
TZID:Europe/Zurich
X-LIC-LOCATION:Europe/Zurich
END:VTIMEZONE
BEGIN:VEVENT
UID:69e92db8d5d5b
DTSTART:20191116T081500Z
SEQUENCE:0
TRANSP:OPAQUE
DTEND:20191116T150000Z
LOCATION:Room S6\, Maison de la paix\, Geneva
SUMMARY:Exposing the Invisible: tactics and tools for safer investigations
CLASS:PUBLIC
DESCRIPTION:Exposing the Invisible: tactics and tools for safer investigati
 ons by Laura Ranca\, Tactical Tech.\n\n\n\nEvent connection: 
DTSTAMP:20260422T222112Z
END:VEVENT
END:VCALENDAR