BEGIN:VCALENDAR
VERSION:2.0
PRODID:iheid
X-WR-TIMEZONE:Europe/Zurich
BEGIN:VTIMEZONE
TZID:Europe/Zurich
X-LIC-LOCATION:Europe/Zurich
END:VTIMEZONE
BEGIN:VEVENT
UID:69e7a7d5c7f7f
DTSTART:20190920T101500Z
SEQUENCE:0
TRANSP:OPAQUE
DTEND:20190920T114500Z
LOCATION:Auditorium Ivan Pictet B
SUMMARY:IMF Assessment of the Swiss Financial Sector
CLASS:PUBLIC
DESCRIPTION:IMF Assessment of the Swiss Financial Sector by Paul Mathieu\, 
 Mission Chief\, Switzerland 2019 FSAP\, Advisor\, Monetary and Capital Mar
 kets Department\, IMF\, and Graduate Institute Alumnus .\n\n\n\nEvent conn
 ection: 
DTSTAMP:20260421T183741Z
END:VEVENT
END:VCALENDAR