BEGIN:VCALENDAR
VERSION:2.0
PRODID:iheid
X-WR-TIMEZONE:Europe/Zurich
BEGIN:VTIMEZONE
TZID:Europe/Zurich
X-LIC-LOCATION:Europe/Zurich
END:VTIMEZONE
BEGIN:VEVENT
UID:69e7a098ae9ea
DTSTART:20190904T160000Z
SEQUENCE:0
TRANSP:OPAQUE
DTEND:20190904T173000Z
LOCATION:Auditorium Ivan Pictet\, Maison de la paix\, Geneva
SUMMARY:Promoting Human Rights within UN Institutions
CLASS:PUBLIC
DESCRIPTION:Promoting Human Rights within UN Institutions by Michelle Bache
 let\, UN High Commissioner for Human Rights\, and Coly Seck\, President of
  the Human Rights Council.\n\n\n\nEvent connection: 
DTSTAMP:20260421T180648Z
END:VEVENT
END:VCALENDAR