BEGIN:VCALENDAR
VERSION:2.0
PRODID:iheid
X-WR-TIMEZONE:Europe/Zurich
BEGIN:VTIMEZONE
TZID:Europe/Zurich
X-LIC-LOCATION:Europe/Zurich
END:VTIMEZONE
BEGIN:VEVENT
UID:69e8261911081
DTSTART:20190930T120000Z
SEQUENCE:0
TRANSP:OPAQUE
DTEND:20190930T140000Z
LOCATION:Maison de la Paix\, Room S9\, Pétale 2
SUMMARY:The Quest of Responding to \"Islamic Jihadism\": Between Internatio
 nal Law and Islamic Law. The Pursuit of Humanity Amidst the Clash of Arms 
 and Minds
CLASS:PUBLIC
DESCRIPTION:The Quest of Responding to &quot\;Islamic Jihadism&quot\;: Betw
 een International Law and Islamic Law. The Pursuit of Humanity Amidst the 
 Clash of Arms and Minds by Mr Omar Ahmed Mahmoud Mekky.\n\n\n\nEvent conne
 ction: 
DTSTAMP:20260422T033625Z
END:VEVENT
END:VCALENDAR