BEGIN:VCALENDAR
VERSION:2.0
PRODID:iheid
X-WR-TIMEZONE:Europe/Zurich
BEGIN:VTIMEZONE
TZID:Europe/Zurich
X-LIC-LOCATION:Europe/Zurich
END:VTIMEZONE
BEGIN:VEVENT
UID:69e9482c6bb09
DTSTART:20191126T113000Z
SEQUENCE:0
TRANSP:OPAQUE
DTEND:20191126T123000Z
LOCATION:Auditorium A1B\, Maison de la paix\, Genève
SUMMARY:Villes sous tension ?
CLASS:PUBLIC
DESCRIPTION:Villes sous tension ? by Dennis Rodgers\, professeur de recherc
 he en anthropologie et sociologie.\n\n\n\nEvent connection: 
DTSTAMP:20260423T001404Z
END:VEVENT
END:VCALENDAR