BEGIN:VCALENDAR
VERSION:2.0
PRODID:iheid
X-WR-TIMEZONE:Europe/Zurich
BEGIN:VTIMEZONE
TZID:Europe/Zurich
X-LIC-LOCATION:Europe/Zurich
END:VTIMEZONE
BEGIN:VEVENT
UID:69e7a0ad77e10
DTSTART:20191107T140000Z
SEQUENCE:0
TRANSP:OPAQUE
DTEND:20191107T143000Z
LOCATION:DATE CHANGE: 7 NOVEMBER REPLACES 5 NOVEMBER 2019 Join us for a&nbs
 p\;live video session on Facebook!&nbsp\; Post your questions in the comme
 nts. Information about our Institute and our programmes The application pr
 ocess Student life on campus and in Geneva Financial aid
SUMMARY:Facebook Live for prospective students
CLASS:PUBLIC
DESCRIPTION:Facebook Live for prospective students by Michal Sela\, Deputy 
 Head\, Student Services | Admission Office and Katy Orell\, Communication 
 Service.\n\n\n\nEvent connection: 
DTSTAMP:20260421T180709Z
END:VEVENT
END:VCALENDAR