BEGIN:VCALENDAR
VERSION:2.0
PRODID:iheid
X-WR-TIMEZONE:Europe/Zurich
BEGIN:VTIMEZONE
TZID:Europe/Zurich
X-LIC-LOCATION:Europe/Zurich
END:VTIMEZONE
BEGIN:VEVENT
UID:69e8e5de7c6c3
DTSTART:20191007T063000Z
SEQUENCE:0
TRANSP:OPAQUE
DTEND:20191007T080000Z
LOCATION:in Auditorium Jacques-Freymond\, 132 rue de Lausanne
SUMMARY:Bringing more finance to the SDGs and more SDGs into finance 
CLASS:PUBLIC
DESCRIPTION:Bringing more finance to the SDGs and more SDGs into finance  b
 y .\n\n\n\nEvent connection: 
DTSTAMP:20260422T171438Z
END:VEVENT
END:VCALENDAR