BEGIN:VCALENDAR
VERSION:2.0
PRODID:iheid
X-WR-TIMEZONE:Europe/Zurich
BEGIN:VTIMEZONE
TZID:Europe/Zurich
X-LIC-LOCATION:Europe/Zurich
END:VTIMEZONE
BEGIN:VEVENT
UID:69e9327cc87a1
DTSTART:20191022T103000Z
SEQUENCE:0
TRANSP:OPAQUE
DTEND:20191022T113000Z
LOCATION:Auditorium A1B\, Maison de la paix\, Geneva
SUMMARY:Fake News: A Historical Perspective
CLASS:PUBLIC
DESCRIPTION:Fake News: A Historical Perspective by Carolyn Biltoft\, Assist
 ant Professor of International History .\n\n\n\nEvent connection: 
DTSTAMP:20260422T224132Z
END:VEVENT
END:VCALENDAR