BEGIN:VCALENDAR
VERSION:2.0
PRODID:iheid
X-WR-TIMEZONE:Europe/Zurich
BEGIN:VTIMEZONE
TZID:Europe/Zurich
X-LIC-LOCATION:Europe/Zurich
END:VTIMEZONE
BEGIN:VEVENT
UID:69e9375746a1f
DTSTART:20191119T173000Z
SEQUENCE:0
TRANSP:OPAQUE
DTEND:20191119T190000Z
LOCATION:Auditorium Pictet B\, Maison de la paix\, Geneva
SUMMARY:When Things Don’t Fall Apart: Global Financial Governance in an A
 ge of Productive Incoherence
CLASS:PUBLIC
DESCRIPTION:When Things Don’t Fall Apart: Global Financial Governance in 
 an Age of Productive Incoherence by Ilene Grabel\, Distinguished Professor
  at Josef Korbel School of International Studies\, University of Denver.\n
 \n\n\nEvent connection: 
DTSTAMP:20260422T230215Z
END:VEVENT
END:VCALENDAR