BEGIN:VCALENDAR
VERSION:2.0
PRODID:iheid
X-WR-TIMEZONE:Europe/Zurich
BEGIN:VTIMEZONE
TZID:Europe/Zurich
X-LIC-LOCATION:Europe/Zurich
END:VTIMEZONE
BEGIN:VEVENT
UID:69e81d6d689c3
DTSTART:20191008T153000Z
SEQUENCE:0
TRANSP:OPAQUE
DTEND:20191008T180000Z
LOCATION:Auditorium Ivan Pictet A\,&nbsp\;Maison de la paix\, Geneva
SUMMARY:Switzerland at the heart of SDG financing
CLASS:PUBLIC
DESCRIPTION:Switzerland at the heart of SDG financing by .\n\n\n\nEvent con
 nection: 
DTSTAMP:20260422T025925Z
END:VEVENT
END:VCALENDAR