BEGIN:VCALENDAR
VERSION:2.0
PRODID:iheid
X-WR-TIMEZONE:Europe/Zurich
BEGIN:VTIMEZONE
TZID:Europe/Zurich
X-LIC-LOCATION:Europe/Zurich
END:VTIMEZONE
BEGIN:VEVENT
UID:69e8b19f42204
DTSTART:20191031T113000Z
SEQUENCE:0
TRANSP:OPAQUE
DTEND:20191031T121500Z
LOCATION:No location specified
SUMMARY:Environmental Governance - Lead the change!
CLASS:PUBLIC
DESCRIPTION:Environmental Governance - Lead the change! by Valérie D&#039\
 ;Hoedt Meyer.\n\n\n\nEvent connection: 
DTSTAMP:20260422T133143Z
END:VEVENT
END:VCALENDAR