BEGIN:VCALENDAR
VERSION:2.0
PRODID:iheid
X-WR-TIMEZONE:Europe/Zurich
BEGIN:VTIMEZONE
TZID:Europe/Zurich
X-LIC-LOCATION:Europe/Zurich
END:VTIMEZONE
BEGIN:VEVENT
UID:69e6cff76db3a
DTSTART:20191029T110000Z
SEQUENCE:0
TRANSP:OPAQUE
DTEND:20191029T120000Z
LOCATION:Auditorium A2\, Maison de la paix\, Geneva
SUMMARY:Digital services taxes: a looming tax and trade war?
CLASS:PUBLIC
DESCRIPTION:Digital services taxes: a looming tax and trade war? by Itai Gr
 inberg\, Professor of Law at Georgetown University and member of the Insti
 tute of International Economic Law at Georgetown.\n\n\n\nEvent connection:
  
DTSTAMP:20260421T031639Z
END:VEVENT
END:VCALENDAR