BEGIN:VCALENDAR
VERSION:2.0
PRODID:iheid
X-WR-TIMEZONE:Europe/Zurich
BEGIN:VTIMEZONE
TZID:Europe/Zurich
X-LIC-LOCATION:Europe/Zurich
END:VTIMEZONE
BEGIN:VEVENT
UID:69e8e5df03a42
DTSTART:20191126T113000Z
SEQUENCE:0
TRANSP:OPAQUE
DTEND:20191126T121500Z
LOCATION:No location specified
SUMMARY:Advocacy – Influence the Influencers!
CLASS:PUBLIC
DESCRIPTION:Advocacy – Influence the Influencers! by Davide Rodogno &amp\
 ; Christophe Lécureuil.\n\n\n\nEvent connection: 
DTSTAMP:20260422T171439Z
END:VEVENT
END:VCALENDAR