BEGIN:VCALENDAR
VERSION:2.0
PRODID:iheid
X-WR-TIMEZONE:Europe/Zurich
BEGIN:VTIMEZONE
TZID:Europe/Zurich
X-LIC-LOCATION:Europe/Zurich
END:VTIMEZONE
BEGIN:VEVENT
UID:69e7a0acaaa9e
DTSTART:20191128T170000Z
SEQUENCE:0
TRANSP:OPAQUE
DTEND:20191128T190000Z
LOCATION:Auditorium&nbsp\; Ivan Pictet\, Maison de la paix\, Geneva
SUMMARY:Celebration of the 2019 ‘Alternative Nobel Prize’ Laureates
CLASS:PUBLIC
DESCRIPTION:Celebration of the 2019 ‘Alternative Nobel Prize’ Laureates
  by With the Right Livelihood Award Foundation.\n\n\n\nEvent connection: 
DTSTAMP:20260421T180708Z
END:VEVENT
END:VCALENDAR