BEGIN:VCALENDAR
VERSION:2.0
PRODID:iheid
X-WR-TIMEZONE:Europe/Zurich
BEGIN:VTIMEZONE
TZID:Europe/Zurich
X-LIC-LOCATION:Europe/Zurich
END:VTIMEZONE
BEGIN:VEVENT
UID:69e6e6eb6ddad
DTSTART:20191127T111500Z
SEQUENCE:0
TRANSP:OPAQUE
DTEND:20191127T130000Z
LOCATION:Auditorium 2\, Maison de la paix\, Geneva
SUMMARY:Kashmir: Politics of Religion and Rights
CLASS:PUBLIC
DESCRIPTION:Kashmir: Politics of Religion and Rights by Nitasha Kaul\, Asso
 ciate Professor\, the Centre for the Study of Democracy\, University of We
 stminster.\n\n\n\nEvent connection: 
DTSTAMP:20260421T045435Z
END:VEVENT
END:VCALENDAR