BEGIN:VCALENDAR
VERSION:2.0
PRODID:iheid
X-WR-TIMEZONE:Europe/Zurich
BEGIN:VTIMEZONE
TZID:Europe/Zurich
X-LIC-LOCATION:Europe/Zurich
END:VTIMEZONE
BEGIN:VEVENT
UID:69e7cd6639310
DTSTART:20191108T173000Z
SEQUENCE:0
TRANSP:OPAQUE
DTEND:20191108T190000Z
LOCATION:Auditorium A1B\, Maison de la paix\, Geneva
SUMMARY:Keynote Address for The Global as Method (SAA Conference)
CLASS:PUBLIC
DESCRIPTION:Keynote Address for The Global as Method (SAA Conference) by An
 nelise Riles\, Northwestern University.\n\n\n\nEvent connection: 
DTSTAMP:20260421T211758Z
END:VEVENT
END:VCALENDAR