BEGIN:VCALENDAR
VERSION:2.0
PRODID:iheid
X-WR-TIMEZONE:Europe/Zurich
BEGIN:VTIMEZONE
TZID:Europe/Zurich
X-LIC-LOCATION:Europe/Zurich
END:VTIMEZONE
BEGIN:VEVENT
UID:69e919a475072
DTSTART:20191115T131500Z
SEQUENCE:0
TRANSP:OPAQUE
DTEND:20191115T150000Z
LOCATION:Room S4
SUMMARY:Internet Economics and Policies
CLASS:PUBLIC
DESCRIPTION:Internet Economics and Policies by Michael Kende.\n\n\n\nEvent 
 connection: 
DTSTAMP:20260422T205532Z
END:VEVENT
END:VCALENDAR