BEGIN:VCALENDAR
VERSION:2.0
PRODID:iheid
X-WR-TIMEZONE:Europe/Zurich
BEGIN:VTIMEZONE
TZID:Europe/Zurich
X-LIC-LOCATION:Europe/Zurich
END:VTIMEZONE
BEGIN:VEVENT
UID:69e6e6eb2c82d
DTSTART:20191108T173000Z
SEQUENCE:0
TRANSP:OPAQUE
DTEND:20191108T190000Z
LOCATION:Auditorium A2\, Maison de la Paix\, Geneva
SUMMARY:Diversity\, land\, and rights of indigenous peoples in Brazil
CLASS:PUBLIC
DESCRIPTION:Diversity\, land\, and rights of indigenous peoples in Brazil b
 y Indigenous Activists\, Prof. Susanna Hecht.\n\n\n\nEvent connection: 
DTSTAMP:20260421T045435Z
END:VEVENT
END:VCALENDAR