BEGIN:VCALENDAR
VERSION:2.0
PRODID:iheid
X-WR-TIMEZONE:Europe/Zurich
BEGIN:VTIMEZONE
TZID:Europe/Zurich
X-LIC-LOCATION:Europe/Zurich
END:VTIMEZONE
BEGIN:VEVENT
UID:69e8e693b34d1
DTSTART:20191209T113000Z
SEQUENCE:0
TRANSP:OPAQUE
DTEND:20191209T123000Z
LOCATION:No location specified
SUMMARY:Energy Transition Disruptions - Dive Into New Models
CLASS:PUBLIC
DESCRIPTION:Energy Transition Disruptions - Dive Into New Models by Executi
 ve programmes on Environmental Governance and Policy-Making.\n\n\n\nEvent 
 connection: 
DTSTAMP:20260422T171739Z
END:VEVENT
END:VCALENDAR