BEGIN:VCALENDAR
VERSION:2.0
PRODID:iheid
X-WR-TIMEZONE:Europe/Zurich
BEGIN:VTIMEZONE
TZID:Europe/Zurich
X-LIC-LOCATION:Europe/Zurich
END:VTIMEZONE
BEGIN:VEVENT
UID:69e8e69251b1e
DTSTART:20191211T163000Z
SEQUENCE:0
TRANSP:OPAQUE
DTEND:20191211T180000Z
LOCATION:in Villa Barton\, 132 rue de Lausanne
SUMMARY:Advocacy: 5 Steps to Design an Effective Strategy
CLASS:PUBLIC
DESCRIPTION:Advocacy: 5 Steps to Design an Effective Strategy by Christophe
  Lécureuil.\n\n\n\nEvent connection: 
DTSTAMP:20260422T171738Z
END:VEVENT
END:VCALENDAR